BEGIN:VCALENDAR
VERSION:2.0
PRODID:-//Illinois Conference, United Church of Christ - ECPv3.11.2//NONSGML v1.0//EN
CALSCALE:GREGORIAN
METHOD:PUBLISH
X-WR-CALNAME:Illinois Conference, United Church of Christ
X-ORIGINAL-URL:https://ilucc.org
X-WR-CALDESC:Events for Illinois Conference, United Church of Christ
BEGIN:VEVENT
DTSTART:20250819T150000Z
DTEND:20250819T170000Z
DTSTAMP:20260420T124101Z
CREATED:20250703T200151Z
LAST-MODIFIED:20250703T200151Z
UID:8068-1755615600-1755622800@ilucc.org
SUMMARY:FAB Meeting
DESCRIPTION:The Illinois Conference Finance\, Administration\, and Business (FAB) Committee will meet at 9:00 a.m. via Zoom. Information for accessing the Zoom meeting will be sent directly to committee members along with other documents needed for the meeting.
URL:https://ilucc.org/event/fab-meeting-36/
CATEGORIES:all
END:VEVENT
BEGIN:VEVENT
DTSTART:20250819T150000Z
DTEND:20250819T170000Z
DTSTAMP:20260420T124101Z
CREATED:20250703T200239Z
LAST-MODIFIED:20250703T200239Z
UID:8069-1755615600-1755622800@ilucc.org
SUMMARY:WA Committee on Ministry
DESCRIPTION:The Western Association Committee on Ministry will meet at 9:00 a.m. via Zoom. Information for accessing the Zoom meeting will be sent directly to committee members along with other documents needed for the meeting.
URL:https://ilucc.org/event/wa-committee-on-ministry-39/
CATEGORIES:Illinois Conference,Western Association
END:VEVENT
BEGIN:VEVENT
DTSTART:20250820T003000Z
DTEND:20250820T020000Z
DTSTAMP:20260420T124101Z
CREATED:20250703T200111Z
LAST-MODIFIED:20250703T200111Z
UID:8067-1755649800-1755655200@ilucc.org
SUMMARY:CMA Council Meeting
DESCRIPTION:The Chicago Metropolitan Association Council will meet at 6:30 p.m. via Zoom. Information for accessing the Zoom meeting will be sent directly to council members along with other documents needed for the meeting.
URL:https://ilucc.org/event/cma-council-meeting-13/
CATEGORIES:Chicago Metropolitan Association,Illinois Conference
END:VEVENT
END:VCALENDAR