BEGIN:VCALENDAR
VERSION:2.0
PRODID:-//Illinois Conference, United Church of Christ - ECPv3.11.2//NONSGML v1.0//EN
CALSCALE:GREGORIAN
METHOD:PUBLISH
X-WR-CALNAME:Illinois Conference, United Church of Christ
X-ORIGINAL-URL:https://ilucc.org
X-WR-CALDESC:Events for Illinois Conference, United Church of Christ
BEGIN:VEVENT
DTSTART:20250510T150000Z
DTEND:20250510T170000Z
DTSTAMP:20260420T163837Z
CREATED:20250418T162306Z
LAST-MODIFIED:20250418T162306Z
UID:7989-1746889200-1746896400@ilucc.org
SUMMARY:Conference Council Meeting
DESCRIPTION:The Illinois Conference Council will meet at 9:00 a.m. via Zoom. Information for accessing the Zoom meeting will be sent directly to council members along with other documents needed for the meeting.
URL:https://ilucc.org/event/conference-council-meeting-4/
CATEGORIES:all
END:VEVENT
END:VCALENDAR