BEGIN:VCALENDAR
VERSION:2.0
PRODID:-//Illinois Conference, United Church of Christ - ECPv3.11.2//NONSGML v1.0//EN
CALSCALE:GREGORIAN
METHOD:PUBLISH
X-WR-CALNAME:Illinois Conference, United Church of Christ
X-ORIGINAL-URL:https://ilucc.org
X-WR-CALDESC:Events for Illinois Conference, United Church of Christ
BEGIN:VEVENT
DTSTART;VALUE=DATE:20220620
DTEND;VALUE=DATE:20220621
DTSTAMP:20260424T161811Z
CREATED:20220505T175300Z
LAST-MODIFIED:20220505T175300Z
UID:6638-1655704800-1655791199@ilucc.org
SUMMARY:Office Closed
DESCRIPTION:The Illinois Conference Office will be closed on Monday\, June 20\, 2022 in observation of Juneteenth (Sunday\, June 19).
URL:https://ilucc.org/event/office-closed-3/
CATEGORIES:all
END:VEVENT
BEGIN:VEVENT
DTSTART:20220621T003000Z
DTEND:20220621T023000Z
DTSTAMP:20260424T161811Z
CREATED:20220124T200201Z
LAST-MODIFIED:20220124T200201Z
UID:6327-1655771400-1655778600@ilucc.org
SUMMARY:CMA Council Mtg
DESCRIPTION:The Chicago Metropolitan Association Council will meet at 6:30 p.m. via Zoom. Information for accessing the Zoom meeting will be sent directly to council members along with other documents needed for the meeting.
URL:https://ilucc.org/event/cma-council-mtg-4/
CATEGORIES:Chicago Metropolitan Association,Illinois Conference
END:VEVENT
END:VCALENDAR