BEGIN:VCALENDAR
VERSION:2.0
PRODID:-//Illinois Conference, United Church of Christ - ECPv3.11.2//NONSGML v1.0//EN
CALSCALE:GREGORIAN
METHOD:PUBLISH
X-WR-CALNAME:Illinois Conference, United Church of Christ
X-ORIGINAL-URL:https://ilucc.org
X-WR-CALDESC:Events for Illinois Conference, United Church of Christ
BEGIN:VEVENT
DTSTART:20220515T210000Z
DTEND:20220515T220000Z
DTSTAMP:20260424T173342Z
CREATED:20220412T134310Z
LAST-MODIFIED:20220510T210136Z
UID:6520-1652648400-1652652000@ilucc.org
SUMMARY:Service of Installation-Michael Smith
DESCRIPTION:Fox Valley Association Congregations\, Clergy\, and Members of the Illinois Conference:\nYou are cordially invited to the\nService of Installation\nfor\nRev. Michael Smith\nas\nPastor\nat\nFirst Congregational Church of Huntley\nSunday\, May 15\, 2022 at 3:00 PM\nClergy are invited to robe and wear red stoles and gather at 2:40 PM.\nFirst Congregational Church\n11628 E. Main St.\nHuntley\, IL 60142\nClick here to participate online.
URL:https://ilucc.org/event/installation-service-for-michael-smith/
LOCATION:11628 E. Main Street\, Huntley\, IL\, 60142\, United States
CATEGORIES:Fox Valley Association,Illinois Conference
END:VEVENT
END:VCALENDAR