BEGIN:VCALENDAR
VERSION:2.0
PRODID:-//Illinois Conference, United Church of Christ - ECPv3.11.2//NONSGML v1.0//EN
CALSCALE:GREGORIAN
METHOD:PUBLISH
X-WR-CALNAME:Illinois Conference, United Church of Christ
X-ORIGINAL-URL:https://ilucc.org
X-WR-CALDESC:Events for Illinois Conference, United Church of Christ
BEGIN:VEVENT
DTSTART:20220312T150000Z
DTEND:20220312T180000Z
DTSTAMP:20260424T203558Z
CREATED:20220217T224818Z
LAST-MODIFIED:20220217T224818Z
UID:6401-1647097200-1647108000@ilucc.org
SUMMARY:Outdoor Ministries Committee Mtg
DESCRIPTION:The Illinois Conference Outdoor Ministries Committee will meet at 9:00 a.m. via Zoom. Information for accessing the Zoom meeting will be sent directly to committee members along with other documents needed for the meeting.
URL:https://ilucc.org/event/outdoor-ministries-committee-mtg-2/
CATEGORIES:all
END:VEVENT
BEGIN:VEVENT
DTSTART:20220312T170000Z
DTEND:20220312T190000Z
DTSTAMP:20260424T203558Z
CREATED:20220124T215242Z
LAST-MODIFIED:20220124T215242Z
UID:6329-1647104400-1647111600@ilucc.org
SUMMARY:EA Council Mtg
DESCRIPTION:The Eastern Association Council will meet at 11:00 a.m. via Zoom. Information for accessing the Zoom meeting will be sent directly to council members along with other documents needed for the meeting.
URL:https://ilucc.org/event/ea-council-mtg-2/
CATEGORIES:Eastern Association,Illinois Conference
END:VEVENT
END:VCALENDAR